Package: crossmeta Version: 1.33.1 Command: /home/biocbuild/bbs-3.21-bioc/R/bin/R CMD INSTALL crossmeta StartedAt: 2025-02-09 15:32:53 -0500 (Sun, 09 Feb 2025) EndedAt: 2025-02-09 15:32:54 -0500 (Sun, 09 Feb 2025) EllapsedTime: 1.0 seconds RetCode: 1 Status: ERROR