Package: crossmeta Version: 1.33.1 Command: rm -rf crossmeta.buildbin-libdir && mkdir crossmeta.buildbin-libdir && E:\biocbuild\bbs-3.21-bioc\R\bin\R.exe CMD INSTALL --build --library=crossmeta.buildbin-libdir crossmeta_1.33.1.tar.gz StartedAt: 2025-02-13 07:43:09 -0500 (Thu, 13 Feb 2025) EndedAt: 2025-02-13 07:43:53 -0500 (Thu, 13 Feb 2025) EllapsedTime: 44.1 seconds RetCode: 0 Status: OK PackageFile: crossmeta_1.33.1.zip PackageFileSize: 2.781 MiB