Package: crossmeta Version: 1.33.1 Command: chmod a+r crossmeta -R && E:\biocbuild\bbs-3.21-bioc\R\bin\R.exe CMD build --keep-empty-dirs --no-resave-data crossmeta StartedAt: 2025-02-09 18:06:35 -0500 (Sun, 09 Feb 2025) EndedAt: 2025-02-09 18:09:00 -0500 (Sun, 09 Feb 2025) EllapsedTime: 145.8 seconds RetCode: 0 Status: OK PackageFile: crossmeta_1.33.1.tar.gz PackageFileSize: 2.951 MiB