Package: crossmeta Version: 1.33.1 Command: E:\biocbuild\bbs-3.21-bioc\R\bin\R.exe CMD INSTALL crossmeta StartedAt: 2025-02-09 16:09:55 -0500 (Sun, 09 Feb 2025) EndedAt: 2025-02-09 16:10:36 -0500 (Sun, 09 Feb 2025) EllapsedTime: 41.1 seconds RetCode: 0 Status: OK