Package: csaw Version: 1.41.2 Command: rm -rf csaw.buildbin-libdir && mkdir csaw.buildbin-libdir && /Users/biocbuild/BBS/utils/build-universal.sh csaw_1.41.2.tar.gz /Library/Frameworks/R.framework/Resources/bin/R csaw.buildbin-libdir StartedAt: 2025-02-09 22:10:57 -0500 (Sun, 09 Feb 2025) EndedAt: 2025-02-09 22:11:24 -0500 (Sun, 09 Feb 2025) EllapsedTime: 27.6 seconds RetCode: 0 Status: OK PackageFile: csaw_1.41.2.tgz PackageFileSize: 1.288 MiB