Package: csaw Version: 1.41.2 Command: /Library/Frameworks/R.framework/Resources/bin/R CMD check --install=check:csaw.install-out.txt --library=/Library/Frameworks/R.framework/Resources/library --no-vignettes --timings csaw_1.41.2.tar.gz StartedAt: 2025-02-09 18:44:06 -0500 (Sun, 09 Feb 2025) EndedAt: 2025-02-09 18:46:49 -0500 (Sun, 09 Feb 2025) EllapsedTime: 163.9 seconds RetCode: 0 Status: WARNINGS CheckDir: csaw.Rcheck Warnings: 1