Package: csaw Version: 1.41.1 Command: /home/biocbuild/R/R/bin/R CMD build --keep-empty-dirs --no-resave-data csaw StartedAt: 2025-01-28 22:11:10 -0000 (Tue, 28 Jan 2025) EndedAt: 2025-01-28 22:13:14 -0000 (Tue, 28 Jan 2025) EllapsedTime: 124.0 seconds RetCode: 0 Status: OK PackageFile: csaw_1.41.1.tar.gz PackageFileSize: 416.5 KiB