Package: csaw Version: 1.41.2 Command: /home/biocbuild/R/R/bin/R CMD INSTALL csaw StartedAt: 2025-01-29 19:46:47 -0000 (Wed, 29 Jan 2025) EndedAt: 2025-01-29 19:48:37 -0000 (Wed, 29 Jan 2025) EllapsedTime: 110.8 seconds RetCode: 0 Status: OK