Package: csaw Version: 1.41.2 Command: rm -rf csaw.buildbin-libdir && mkdir csaw.buildbin-libdir && /Users/biocbuild/BBS/utils/build-universal.sh csaw_1.41.2.tar.gz /Library/Frameworks/R.framework/Resources/bin/R csaw.buildbin-libdir StartedAt: 2025-02-10 00:48:46 -0500 (Mon, 10 Feb 2025) EndedAt: 2025-02-10 00:50:25 -0500 (Mon, 10 Feb 2025) EllapsedTime: 98.1 seconds RetCode: 0 Status: OK PackageFile: csaw_1.41.2.tgz PackageFileSize: 1.32 MiB