Package: csaw Version: 1.41.2 Command: /Library/Frameworks/R.framework/Resources/bin/R CMD build --keep-empty-dirs --no-resave-data csaw StartedAt: 2025-02-09 16:25:17 -0500 (Sun, 09 Feb 2025) EndedAt: 2025-02-09 16:26:46 -0500 (Sun, 09 Feb 2025) EllapsedTime: 89.2 seconds RetCode: 0 Status: OK PackageFile: csaw_1.41.2.tar.gz PackageFileSize: 389.2 KiB