Package: csaw Version: 1.41.2 Command: /Library/Frameworks/R.framework/Resources/bin/R CMD check --install=check:csaw.install-out.txt --library=/Library/Frameworks/R.framework/Resources/library --no-vignettes --timings csaw_1.41.2.tar.gz StartedAt: 2025-02-12 19:50:42 -0500 (Wed, 12 Feb 2025) EndedAt: 2025-02-12 19:59:13 -0500 (Wed, 12 Feb 2025) EllapsedTime: 510.7 seconds RetCode: 0 Status: OK CheckDir: csaw.Rcheck Warnings: 0