Package: csaw Version: 1.41.2 Command: /Library/Frameworks/R.framework/Resources/bin/R CMD INSTALL csaw StartedAt: 2025-02-09 15:15:17 -0500 (Sun, 09 Feb 2025) EndedAt: 2025-02-09 15:16:55 -0500 (Sun, 09 Feb 2025) EllapsedTime: 98.4 seconds RetCode: 0 Status: OK