Package: csaw Version: 1.41.2 Command: /home/biocbuild/bbs-3.21-bioc/R/bin/R CMD build --keep-empty-dirs --no-resave-data csaw StartedAt: 2025-02-12 16:46:50 -0500 (Wed, 12 Feb 2025) EndedAt: 2025-02-12 16:48:13 -0500 (Wed, 12 Feb 2025) EllapsedTime: 83.1 seconds RetCode: 0 Status: OK PackageFile: csaw_1.41.2.tar.gz PackageFileSize: 389.3 KiB