Package: csaw Version: 1.41.2 Command: E:\biocbuild\bbs-3.21-bioc\R\bin\R.exe CMD check --no-multiarch --install=check:csaw.install-out.txt --library=E:\biocbuild\bbs-3.21-bioc\R\library --no-vignettes --timings csaw_1.41.2.tar.gz StartedAt: 2025-02-10 00:03:15 -0500 (Mon, 10 Feb 2025) EndedAt: 2025-02-10 00:14:19 -0500 (Mon, 10 Feb 2025) EllapsedTime: 663.2 seconds RetCode: 0 Status: OK CheckDir: csaw.Rcheck Warnings: 0