Package: csdR Version: 1.13.3 Command: /Library/Frameworks/R.framework/Resources/bin/R CMD INSTALL csdR StartedAt: 2025-02-04 15:30:39 -0500 (Tue, 04 Feb 2025) EndedAt: 2025-02-04 15:31:17 -0500 (Tue, 04 Feb 2025) EllapsedTime: 38.5 seconds RetCode: 0 Status: OK