Package: csdR Version: 1.13.3 Command: rm -rf csdR.buildbin-libdir && mkdir csdR.buildbin-libdir && E:\biocbuild\bbs-3.21-bioc\R\bin\R.exe CMD INSTALL --build --library=csdR.buildbin-libdir csdR_1.13.3.tar.gz StartedAt: 2025-02-05 07:43:52 -0500 (Wed, 05 Feb 2025) EndedAt: 2025-02-05 07:44:30 -0500 (Wed, 05 Feb 2025) EllapsedTime: 38.1 seconds RetCode: 0 Status: OK PackageFile: csdR_1.13.3.zip PackageFileSize: 1.778 MiB