Package: csdR Version: 1.13.3 Command: chmod a+r csdR -R && E:\biocbuild\bbs-3.21-bioc\R\bin\R.exe CMD build --keep-empty-dirs --no-resave-data csdR StartedAt: 2025-02-09 18:06:55 -0500 (Sun, 09 Feb 2025) EndedAt: 2025-02-09 18:08:01 -0500 (Sun, 09 Feb 2025) EllapsedTime: 65.9 seconds RetCode: 0 Status: OK PackageFile: csdR_1.13.3.tar.gz PackageFileSize: 1.337 MiB