Package: csdR Version: 1.13.3 Command: E:\biocbuild\bbs-3.21-bioc\R\bin\R.exe CMD INSTALL csdR StartedAt: 2025-02-09 15:55:26 -0500 (Sun, 09 Feb 2025) EndedAt: 2025-02-09 15:56:02 -0500 (Sun, 09 Feb 2025) EllapsedTime: 36.2 seconds RetCode: 0 Status: OK