Package: ctc Version: 1.81.0 Command: /home/biocbuild/R/R/bin/R CMD build --keep-empty-dirs --no-resave-data ctc StartedAt: 2025-01-28 22:11:23 -0000 (Tue, 28 Jan 2025) EndedAt: 2025-01-28 22:11:28 -0000 (Tue, 28 Jan 2025) EllapsedTime: 5.0 seconds RetCode: 0 Status: OK PackageFile: ctc_1.81.0.tar.gz PackageFileSize: 262.5 KiB