Package: ctc Version: 1.81.0 Command: /Library/Frameworks/R.framework/Resources/bin/R CMD check --install=check:ctc.install-out.txt --library=/Library/Frameworks/R.framework/Resources/library --no-vignettes --timings ctc_1.81.0.tar.gz StartedAt: 2025-02-03 19:52:54 -0500 (Mon, 03 Feb 2025) EndedAt: 2025-02-03 19:53:22 -0500 (Mon, 03 Feb 2025) EllapsedTime: 27.8 seconds RetCode: 0 Status: OK CheckDir: ctc.Rcheck Warnings: 0