Package: ctc Version: 1.81.0 Command: /home/biocbuild/bbs-3.21-bioc/R/bin/R CMD INSTALL ctc StartedAt: 2025-02-03 15:13:00 -0500 (Mon, 03 Feb 2025) EndedAt: 2025-02-03 15:13:25 -0500 (Mon, 03 Feb 2025) EllapsedTime: 25.0 seconds RetCode: 0 Status: OK