Package: ctc Version: 1.81.0 Command: chmod a+r ctc -R && E:\biocbuild\bbs-3.21-bioc\R\bin\R.exe CMD build --keep-empty-dirs --no-resave-data ctc StartedAt: 2025-02-03 18:19:41 -0500 (Mon, 03 Feb 2025) EndedAt: 2025-02-03 18:19:53 -0500 (Mon, 03 Feb 2025) EllapsedTime: 11.8 seconds RetCode: 0 Status: OK PackageFile: ctc_1.81.0.tar.gz PackageFileSize: 89.99 KiB