Package: ctsGE Version: 1.33.0 Command: rm -rf ctsGE.buildbin-libdir && mkdir ctsGE.buildbin-libdir && /Users/biocbuild/BBS/utils/build-universal.sh ctsGE_1.33.0.tar.gz /Library/Frameworks/R.framework/Resources/bin/R ctsGE.buildbin-libdir StartedAt: 2025-02-09 22:11:05 -0500 (Sun, 09 Feb 2025) EndedAt: 2025-02-09 22:11:08 -0500 (Sun, 09 Feb 2025) EllapsedTime: 3.1 seconds RetCode: 0 Status: OK PackageFile: ctsGE_1.33.0.tgz PackageFileSize: 1.169 MiB