Package: ctsGE Version: 1.33.0 Command: /Library/Frameworks/R.framework/Resources/bin/R CMD check --install=check:ctsGE.install-out.txt --library=/Library/Frameworks/R.framework/Resources/library --no-vignettes --timings ctsGE_1.33.0.tar.gz StartedAt: 2025-02-09 18:45:51 -0500 (Sun, 09 Feb 2025) EndedAt: 2025-02-09 18:46:12 -0500 (Sun, 09 Feb 2025) EllapsedTime: 21.3 seconds RetCode: 0 Status: OK CheckDir: ctsGE.Rcheck Warnings: 0