Package: ctsGE Version: 1.33.0 Command: chmod a+r ctsGE -R && E:\biocbuild\bbs-3.21-bioc\R\bin\R.exe CMD build --keep-empty-dirs --no-resave-data ctsGE StartedAt: 2025-02-09 18:07:25 -0500 (Sun, 09 Feb 2025) EndedAt: 2025-02-09 18:08:00 -0500 (Sun, 09 Feb 2025) EllapsedTime: 35.7 seconds RetCode: 0 Status: OK PackageFile: ctsGE_1.33.0.tar.gz PackageFileSize: 718.1 KiB