Package: ctsGE Version: 1.33.0 Command: E:\biocbuild\bbs-3.21-bioc\R\bin\R.exe CMD INSTALL ctsGE StartedAt: 2025-02-09 15:36:37 -0500 (Sun, 09 Feb 2025) EndedAt: 2025-02-09 15:36:49 -0500 (Sun, 09 Feb 2025) EllapsedTime: 11.8 seconds RetCode: 0 Status: OK