Package: cummeRbund Version: 2.49.0 Command: rm -rf cummeRbund.buildbin-libdir && mkdir cummeRbund.buildbin-libdir && /Users/biocbuild/BBS/utils/build-universal.sh cummeRbund_2.49.0.tar.gz /Library/Frameworks/R.framework/Resources/bin/R cummeRbund.buildbin-libdir StartedAt: 2025-02-09 22:11:08 -0500 (Sun, 09 Feb 2025) EndedAt: 2025-02-09 22:11:34 -0500 (Sun, 09 Feb 2025) EllapsedTime: 25.6 seconds RetCode: 0 Status: OK PackageFile: cummeRbund_2.49.0.tgz PackageFileSize: 3.609 MiB