Package: cummeRbund Version: 2.49.0 Command: rm -rf cummeRbund.buildbin-libdir && mkdir cummeRbund.buildbin-libdir && /Users/biocbuild/BBS/utils/build-universal.sh cummeRbund_2.49.0.tar.gz /Library/Frameworks/R.framework/Resources/bin/R cummeRbund.buildbin-libdir StartedAt: 2025-02-10 00:48:59 -0500 (Mon, 10 Feb 2025) EndedAt: 2025-02-10 00:50:22 -0500 (Mon, 10 Feb 2025) EllapsedTime: 83.2 seconds RetCode: 0 Status: OK PackageFile: cummeRbund_2.49.0.tgz PackageFileSize: 3.605 MiB