Package: cummeRbund Version: 2.49.0 Command: /Library/Frameworks/R.framework/Resources/bin/R CMD build --keep-empty-dirs --no-resave-data cummeRbund StartedAt: 2025-02-09 16:25:55 -0500 (Sun, 09 Feb 2025) EndedAt: 2025-02-09 16:28:11 -0500 (Sun, 09 Feb 2025) EllapsedTime: 136.2 seconds RetCode: 0 Status: OK PackageFile: cummeRbund_2.49.0.tar.gz PackageFileSize: 2.607 MiB