Package: cummeRbund Version: 2.49.0 Command: /Library/Frameworks/R.framework/Resources/bin/R CMD INSTALL cummeRbund StartedAt: 2025-02-09 15:28:37 -0500 (Sun, 09 Feb 2025) EndedAt: 2025-02-09 15:29:56 -0500 (Sun, 09 Feb 2025) EllapsedTime: 79.4 seconds RetCode: 0 Status: OK