Package: cummeRbund Version: 2.49.0 Command: /home/biocbuild/bbs-3.21-bioc/R/bin/R CMD check --install=check:cummeRbund.install-out.txt --library=/home/biocbuild/bbs-3.21-bioc/R/site-library --timings cummeRbund_2.49.0.tar.gz StartedAt: 2025-02-09 21:20:53 -0500 (Sun, 09 Feb 2025) EndedAt: 2025-02-09 21:28:16 -0500 (Sun, 09 Feb 2025) EllapsedTime: 442.5 seconds RetCode: 0 Status: WARNINGS CheckDir: cummeRbund.Rcheck Warnings: 1