Package: cummeRbund Version: 2.49.0 Command: chmod a+r cummeRbund -R && E:\biocbuild\bbs-3.21-bioc\R\bin\R.exe CMD build --keep-empty-dirs --no-resave-data cummeRbund StartedAt: 2025-02-09 18:07:31 -0500 (Sun, 09 Feb 2025) EndedAt: 2025-02-09 18:10:28 -0500 (Sun, 09 Feb 2025) EllapsedTime: 177.1 seconds RetCode: 0 Status: OK PackageFile: cummeRbund_2.49.0.tar.gz PackageFileSize: 2.339 MiB