Package: cycle Version: 1.61.0 Command: /home/biocbuild/R/R/bin/R CMD INSTALL cycle StartedAt: 2025-01-29 19:36:21 -0000 (Wed, 29 Jan 2025) EndedAt: 2025-01-29 19:36:44 -0000 (Wed, 29 Jan 2025) EllapsedTime: 22.8 seconds RetCode: 0 Status: OK