Package: cycle Version: 1.61.0 Command: rm -rf cycle.buildbin-libdir && mkdir cycle.buildbin-libdir && /Users/biocbuild/BBS/utils/build-universal.sh cycle_1.61.0.tar.gz /Library/Frameworks/R.framework/Resources/bin/R cycle.buildbin-libdir StartedAt: 2025-02-10 00:49:05 -0500 (Mon, 10 Feb 2025) EndedAt: 2025-02-10 00:49:13 -0500 (Mon, 10 Feb 2025) EllapsedTime: 8.1 seconds RetCode: 0 Status: OK PackageFile: cycle_1.61.0.tgz PackageFileSize: 266.8 KiB