Package: cycle Version: 1.61.0 Command: /Library/Frameworks/R.framework/Resources/bin/R CMD build --keep-empty-dirs --no-resave-data cycle StartedAt: 2025-02-12 16:23:54 -0500 (Wed, 12 Feb 2025) EndedAt: 2025-02-12 16:24:30 -0500 (Wed, 12 Feb 2025) EllapsedTime: 36.5 seconds RetCode: 0 Status: OK PackageFile: cycle_1.61.0.tar.gz PackageFileSize: 247.1 KiB