Package: cycle Version: 1.61.0 Command: /home/biocbuild/bbs-3.21-bioc/R/bin/R CMD INSTALL cycle StartedAt: 2025-02-09 15:14:12 -0500 (Sun, 09 Feb 2025) EndedAt: 2025-02-09 15:14:17 -0500 (Sun, 09 Feb 2025) EllapsedTime: 4.5 seconds RetCode: 0 Status: OK