Package: cycle Version: 1.61.0 Command: chmod a+r cycle -R && E:\biocbuild\bbs-3.21-bioc\R\bin\R.exe CMD build --keep-empty-dirs --no-resave-data cycle StartedAt: 2025-02-09 18:08:02 -0500 (Sun, 09 Feb 2025) EndedAt: 2025-02-09 18:08:32 -0500 (Sun, 09 Feb 2025) EllapsedTime: 30.1 seconds RetCode: 0 Status: OK PackageFile: cycle_1.61.0.tar.gz PackageFileSize: 104.2 KiB