Package: cycle Version: 1.61.0 Command: E:\biocbuild\bbs-3.21-bioc\R\bin\R.exe CMD check --no-multiarch --install=check:cycle.install-out.txt --library=E:\biocbuild\bbs-3.21-bioc\R\library --no-vignettes --timings cycle_1.61.0.tar.gz StartedAt: 2025-02-10 00:07:06 -0500 (Mon, 10 Feb 2025) EndedAt: 2025-02-10 00:07:46 -0500 (Mon, 10 Feb 2025) EllapsedTime: 39.3 seconds RetCode: 0 Status: OK CheckDir: cycle.Rcheck Warnings: 0