Package: cycle Version: 1.61.0 Command: E:\biocbuild\bbs-3.21-bioc\R\bin\R.exe CMD INSTALL cycle StartedAt: 2025-02-09 15:29:36 -0500 (Sun, 09 Feb 2025) EndedAt: 2025-02-09 15:29:44 -0500 (Sun, 09 Feb 2025) EllapsedTime: 8.5 seconds RetCode: 0 Status: OK