Package: cydar Version: 1.31.0 Command: /home/biocbuild/R/R/bin/R CMD check --install=check:cydar.install-out.txt --library=/home/biocbuild/R/R/site-library --no-vignettes --timings cydar_1.31.0.tar.gz StartedAt: 2025-01-28 09:39:15 -0000 (Tue, 28 Jan 2025) EndedAt: 2025-01-28 09:44:28 -0000 (Tue, 28 Jan 2025) EllapsedTime: 313.2 seconds RetCode: 0 Status: OK CheckDir: cydar.Rcheck Warnings: 0