Package: cydar Version: 1.31.0 Command: /Library/Frameworks/R.framework/Resources/bin/R CMD build --keep-empty-dirs --no-resave-data cydar StartedAt: 2025-02-12 16:24:13 -0500 (Wed, 12 Feb 2025) EndedAt: 2025-02-12 16:25:30 -0500 (Wed, 12 Feb 2025) EllapsedTime: 76.5 seconds RetCode: 0 Status: OK PackageFile: cydar_1.31.0.tar.gz PackageFileSize: 744.1 KiB