Package: cydar Version: 1.31.0 Command: /Library/Frameworks/R.framework/Resources/bin/R CMD INSTALL cydar StartedAt: 2025-02-12 15:24:30 -0500 (Wed, 12 Feb 2025) EndedAt: 2025-02-12 15:25:30 -0500 (Wed, 12 Feb 2025) EllapsedTime: 59.6 seconds RetCode: 0 Status: OK