Package: cydar Version: 1.31.0 Command: /home/biocbuild/bbs-3.21-bioc/R/bin/R CMD build --keep-empty-dirs --no-resave-data cydar StartedAt: 2025-02-09 16:51:35 -0500 (Sun, 09 Feb 2025) EndedAt: 2025-02-09 16:52:44 -0500 (Sun, 09 Feb 2025) EllapsedTime: 68.2 seconds RetCode: 0 Status: OK PackageFile: cydar_1.31.0.tar.gz PackageFileSize: 493.1 KiB