Package: cydar Version: 1.31.0 Command: chmod a+r cydar -R && E:\biocbuild\bbs-3.21-bioc\R\bin\R.exe CMD build --keep-empty-dirs --no-resave-data cydar StartedAt: 2025-02-09 18:08:32 -0500 (Sun, 09 Feb 2025) EndedAt: 2025-02-09 18:10:09 -0500 (Sun, 09 Feb 2025) EllapsedTime: 97.3 seconds RetCode: 0 Status: OK PackageFile: cydar_1.31.0.tar.gz PackageFileSize: 381.7 KiB