Package: cydar Version: 1.31.0 Command: E:\biocbuild\bbs-3.21-bioc\R\bin\R.exe CMD INSTALL cydar StartedAt: 2025-02-09 16:18:10 -0500 (Sun, 09 Feb 2025) EndedAt: 2025-02-09 16:19:17 -0500 (Sun, 09 Feb 2025) EllapsedTime: 67.5 seconds RetCode: 0 Status: OK