Package: cypress Version: 1.3.0 Command: /Library/Frameworks/R.framework/Resources/bin/R CMD build --keep-empty-dirs --no-resave-data cypress StartedAt: 2025-02-09 16:02:08 -0500 (Sun, 09 Feb 2025) EndedAt: 2025-02-09 16:03:54 -0500 (Sun, 09 Feb 2025) EllapsedTime: 106.2 seconds RetCode: 0 Status: OK PackageFile: cypress_1.3.0.tar.gz PackageFileSize: 2.719 MiB