Package: cypress Version: 1.3.0 Command: /Library/Frameworks/R.framework/Resources/bin/R CMD INSTALL cypress StartedAt: 2025-02-12 15:24:25 -0500 (Wed, 12 Feb 2025) EndedAt: 2025-02-12 15:24:37 -0500 (Wed, 12 Feb 2025) EllapsedTime: 11.9 seconds RetCode: 0 Status: OK