Package: cypress Version: 1.3.0 Command: rm -rf cypress.buildbin-libdir && mkdir cypress.buildbin-libdir && /Users/biocbuild/BBS/utils/build-universal.sh cypress_1.3.0.tar.gz /Library/Frameworks/R.framework/Resources/bin/R cypress.buildbin-libdir StartedAt: 2025-02-10 00:49:07 -0500 (Mon, 10 Feb 2025) EndedAt: 2025-02-10 00:49:49 -0500 (Mon, 10 Feb 2025) EllapsedTime: 41.7 seconds RetCode: 0 Status: OK PackageFile: cypress_1.3.0.tgz PackageFileSize: 2.501 MiB