Package: cypress Version: 1.3.0 Command: /Library/Frameworks/R.framework/Resources/bin/R CMD check --install=check:cypress.install-out.txt --library=/Library/Frameworks/R.framework/Resources/library --no-vignettes --timings cypress_1.3.0.tar.gz StartedAt: 2025-02-09 20:04:26 -0500 (Sun, 09 Feb 2025) EndedAt: 2025-02-09 20:15:12 -0500 (Sun, 09 Feb 2025) EllapsedTime: 645.6 seconds RetCode: 0 Status: OK CheckDir: cypress.Rcheck Warnings: 0