Package: cypress Version: 1.3.0 Command: /Library/Frameworks/R.framework/Resources/bin/R CMD INSTALL cypress StartedAt: 2025-02-09 15:38:42 -0500 (Sun, 09 Feb 2025) EndedAt: 2025-02-09 15:39:22 -0500 (Sun, 09 Feb 2025) EllapsedTime: 40.6 seconds RetCode: 0 Status: OK